BEGIN:VCALENDAR
VERSION:2.0
PRODID:-//Donauwörther Fischerstecher e.V. - ECPv6.0.3.1//NONSGML v1.0//EN
CALSCALE:GREGORIAN
METHOD:PUBLISH
X-WR-CALNAME:Donauwörther Fischerstecher e.V.
X-ORIGINAL-URL:https://www.fischerstecher.de
X-WR-CALDESC:Veranstaltungen für Donauwörther Fischerstecher e.V.
REFRESH-INTERVAL;VALUE=DURATION:PT1H
X-Robots-Tag:noindex
X-PUBLISHED-TTL:PT1H
BEGIN:VTIMEZONE
TZID:Europe/Berlin
BEGIN:DAYLIGHT
TZOFFSETFROM:+0100
TZOFFSETTO:+0200
TZNAME:CEST
DTSTART:20210328T010000
END:DAYLIGHT
BEGIN:STANDARD
TZOFFSETFROM:+0200
TZOFFSETTO:+0100
TZNAME:CET
DTSTART:20211031T010000
END:STANDARD
END:VTIMEZONE
BEGIN:VEVENT
DTSTART;VALUE=DATE:20210716
DTEND;VALUE=DATE:20210717
DTSTAMP:20260424T022254
CREATED:20200108T165038Z
LAST-MODIFIED:20210513T192737Z
UID:1244-1626393600-1626479999@www.fischerstecher.de
SUMMARY:Sportlergala 2021
DESCRIPTION:Ehrung verdienter Donauwörther Sportlerinnen und Sportler\, Sportler/in des Jahres 2019/20\n  \nBeginn 19:30 Uhr \n  \nTermin wurde auf den 16. Juli 2021 verschoben\n 
URL:https://www.fischerstecher.de/event/sportlergala-2021/
LOCATION:avia_transparency_logo
END:VEVENT
END:VCALENDAR