BEGIN:VCALENDAR
VERSION:2.0
PRODID:-//Donauwörther Fischerstecher e.V. - ECPv6.0.3.1//NONSGML v1.0//EN
CALSCALE:GREGORIAN
METHOD:PUBLISH
X-ORIGINAL-URL:https://www.fischerstecher.de
X-WR-CALDESC:Veranstaltungen für Donauwörther Fischerstecher e.V.
REFRESH-INTERVAL;VALUE=DURATION:PT1H
X-Robots-Tag:noindex
X-PUBLISHED-TTL:PT1H
BEGIN:VTIMEZONE
TZID:Europe/Berlin
BEGIN:DAYLIGHT
TZOFFSETFROM:+0100
TZOFFSETTO:+0200
TZNAME:CEST
DTSTART:20200329T010000
END:DAYLIGHT
BEGIN:STANDARD
TZOFFSETFROM:+0200
TZOFFSETTO:+0100
TZNAME:CET
DTSTART:20201025T010000
END:STANDARD
END:VTIMEZONE
BEGIN:VEVENT
DTSTART;VALUE=DATE:20201205
DTEND;VALUE=DATE:20201206
DTSTAMP:20260423T213224
CREATED:20200210T201528Z
LAST-MODIFIED:20201130T211053Z
UID:3017-1607126400-1607212799@www.fischerstecher.de
SUMMARY:Weihnachtsfeier 2020 - fällt leider aus
DESCRIPTION:Liebe Vereinsmitglieder und Freunde der Donauwörther Fischerstecher\,\n  \n2020\, dieses Jahr wird uns wohl immer in Erinnerung bleiben. \nEs hat viel verändert in unseren Leben. Ob in der Familie im Beruf und auch in unserem Vereins leben. \n  \nGerne würde wir\, wie auch die letzten Jahre\, das Jahr mit einer gemütlichen Weihnachtsfreier\, \nbei gutem Essen\, Gebäck und Glühwein mit Euch allen ausklingen lassen. \nAber in diesem Jahr ist leider alles anders. \n  \nTrotz allem\, wünschen wir Euch und Euren Familien eine schöne Adventszeit! \n  \nBleibt´s gesund! \n  \nEure Vorstandschaft
URL:https://www.fischerstecher.de/event/weihnachtsfeier-2020/
LOCATION:avia_transparency_logo
END:VEVENT
END:VCALENDAR