BEGIN:VCALENDAR
VERSION:2.0
PRODID:-//Donauwörther Fischerstecher e.V. - ECPv6.0.3.1//NONSGML v1.0//EN
CALSCALE:GREGORIAN
METHOD:PUBLISH
X-WR-CALNAME:Donauwörther Fischerstecher e.V.
X-ORIGINAL-URL:https://www.fischerstecher.de
X-WR-CALDESC:Veranstaltungen für Donauwörther Fischerstecher e.V.
REFRESH-INTERVAL;VALUE=DURATION:PT1H
X-Robots-Tag:noindex
X-PUBLISHED-TTL:PT1H
BEGIN:VTIMEZONE
TZID:Europe/Berlin
BEGIN:DAYLIGHT
TZOFFSETFROM:+0100
TZOFFSETTO:+0200
TZNAME:CEST
DTSTART:20200329T010000
END:DAYLIGHT
BEGIN:STANDARD
TZOFFSETFROM:+0200
TZOFFSETTO:+0100
TZNAME:CET
DTSTART:20201025T010000
END:STANDARD
END:VTIMEZONE
BEGIN:VEVENT
DTSTART;VALUE=DATE:20200521
DTEND;VALUE=DATE:20200522
DTSTAMP:20260423T235909
CREATED:20191209T212730Z
LAST-MODIFIED:20191209T213545Z
UID:953-1590019200-1590019200@www.fischerstecher.de
SUMMARY:Vatertagsfahrt 2020
DESCRIPTION: 
URL:https://www.fischerstecher.de/event/vatertagsfahrt-2020/
LOCATION:avia_transparency_logo
END:VEVENT
BEGIN:VEVENT
DTSTART;VALUE=DATE:20200523
DTEND;VALUE=DATE:20200524
DTSTAMP:20260423T235909
CREATED:20200210T200406Z
LAST-MODIFIED:20200428T194200Z
UID:3004-1590192000-1590278399@www.fischerstecher.de
SUMMARY:Fischerstechen Neuburg 2020 - fällt aus!
DESCRIPTION:
URL:https://www.fischerstecher.de/event/fischerstechen-neuburg-2020/
LOCATION:avia_transparency_logo
END:VEVENT
END:VCALENDAR