BEGIN:VCALENDAR
VERSION:2.0
PRODID:-//Donauwörther Fischerstecher e.V. - ECPv6.0.3.1//NONSGML v1.0//EN
CALSCALE:GREGORIAN
METHOD:PUBLISH
X-ORIGINAL-URL:https://www.fischerstecher.de
X-WR-CALDESC:Veranstaltungen für Donauwörther Fischerstecher e.V.
REFRESH-INTERVAL;VALUE=DURATION:PT1H
X-Robots-Tag:noindex
X-PUBLISHED-TTL:PT1H
BEGIN:VTIMEZONE
TZID:Europe/Berlin
BEGIN:DAYLIGHT
TZOFFSETFROM:+0100
TZOFFSETTO:+0200
TZNAME:CEST
DTSTART:20260329T010000
END:DAYLIGHT
BEGIN:STANDARD
TZOFFSETFROM:+0200
TZOFFSETTO:+0100
TZNAME:CET
DTSTART:20261025T010000
END:STANDARD
END:VTIMEZONE
BEGIN:VEVENT
DTSTART;TZID=Europe/Berlin:20260501T120000
DTEND;TZID=Europe/Berlin:20260501T230000
DTSTAMP:20260421T115350
CREATED:20260302T202744Z
LAST-MODIFIED:20260302T202744Z
UID:4619-1777636800-1777676400@www.fischerstecher.de
SUMMARY:Maifeier 2026
DESCRIPTION:in diesem Jahr findet unsere Maibaum Feier erst am 01. Mai 2026 statt. \nEine Einladung folgt in schriftlicher Form an die Mitglieder
URL:https://www.fischerstecher.de/event/maifeier-2026/
END:VEVENT
BEGIN:VEVENT
DTSTART;VALUE=DATE:20260523
DTEND;VALUE=DATE:20260524
DTSTAMP:20260421T115350
CREATED:20260319T211514Z
LAST-MODIFIED:20260319T211514Z
UID:4642-1779494400-1779580799@www.fischerstecher.de
SUMMARY:Fischerstechen in Neuburg
DESCRIPTION:
URL:https://www.fischerstecher.de/event/fischerstechen-in-neuburg/
END:VEVENT
BEGIN:VEVENT
DTSTART;TZID=Europe/Berlin:20260603T160000
DTEND;TZID=Europe/Berlin:20260606T233000
DTSTAMP:20260421T115350
CREATED:20260302T211927Z
LAST-MODIFIED:20260302T211927Z
UID:4632-1780502400-1780788600@www.fischerstecher.de
SUMMARY:Inselfest 2026
DESCRIPTION:
URL:https://www.fischerstecher.de/event/inselfest-2026/
END:VEVENT
BEGIN:VEVENT
DTSTART;VALUE=DATE:20260620
DTEND;VALUE=DATE:20260621
DTSTAMP:20260421T115350
CREATED:20260319T211604Z
LAST-MODIFIED:20260319T211604Z
UID:4644-1781913600-1781999999@www.fischerstecher.de
SUMMARY:Fischerstechen in Ingolstadt
DESCRIPTION:
URL:https://www.fischerstecher.de/event/fischerstechen-in-ingolstadt/
END:VEVENT
BEGIN:VEVENT
DTSTART;VALUE=DATE:20260704
DTEND;VALUE=DATE:20260705
DTSTAMP:20260421T115350
CREATED:20260319T211657Z
LAST-MODIFIED:20260319T211657Z
UID:4646-1783123200-1783209599@www.fischerstecher.de
SUMMARY:Hobbystechen in Rain am Lech
DESCRIPTION:
URL:https://www.fischerstecher.de/event/hobbystechen-in-rain-am-lech/
END:VEVENT
END:VCALENDAR