BEGIN:VCALENDAR
VERSION:2.0
PRODID:-//Donauwörther Fischerstecher e.V. - ECPv6.0.3.1//NONSGML v1.0//EN
CALSCALE:GREGORIAN
METHOD:PUBLISH
X-ORIGINAL-URL:https://www.fischerstecher.de
X-WR-CALDESC:Veranstaltungen für Donauwörther Fischerstecher e.V.
REFRESH-INTERVAL;VALUE=DURATION:PT1H
X-Robots-Tag:noindex
X-PUBLISHED-TTL:PT1H
BEGIN:VTIMEZONE
TZID:Europe/Berlin
BEGIN:DAYLIGHT
TZOFFSETFROM:+0100
TZOFFSETTO:+0200
TZNAME:CEST
DTSTART:20220327T010000
END:DAYLIGHT
BEGIN:STANDARD
TZOFFSETFROM:+0200
TZOFFSETTO:+0100
TZNAME:CET
DTSTART:20221030T010000
END:STANDARD
BEGIN:DAYLIGHT
TZOFFSETFROM:+0100
TZOFFSETTO:+0200
TZNAME:CEST
DTSTART:20230326T010000
END:DAYLIGHT
BEGIN:STANDARD
TZOFFSETFROM:+0200
TZOFFSETTO:+0100
TZNAME:CET
DTSTART:20231029T010000
END:STANDARD
BEGIN:DAYLIGHT
TZOFFSETFROM:+0100
TZOFFSETTO:+0200
TZNAME:CEST
DTSTART:20240331T010000
END:DAYLIGHT
BEGIN:STANDARD
TZOFFSETFROM:+0200
TZOFFSETTO:+0100
TZNAME:CET
DTSTART:20241027T010000
END:STANDARD
BEGIN:DAYLIGHT
TZOFFSETFROM:+0100
TZOFFSETTO:+0200
TZNAME:CEST
DTSTART:20250330T010000
END:DAYLIGHT
BEGIN:STANDARD
TZOFFSETFROM:+0200
TZOFFSETTO:+0100
TZNAME:CET
DTSTART:20251026T010000
END:STANDARD
BEGIN:DAYLIGHT
TZOFFSETFROM:+0100
TZOFFSETTO:+0200
TZNAME:CEST
DTSTART:20260329T010000
END:DAYLIGHT
BEGIN:STANDARD
TZOFFSETFROM:+0200
TZOFFSETTO:+0100
TZNAME:CET
DTSTART:20261025T010000
END:STANDARD
END:VTIMEZONE
BEGIN:VEVENT
DTSTART;VALUE=DATE:20260411
DTEND;VALUE=DATE:20260412
DTSTAMP:20260421T131758
CREATED:20260319T211350Z
LAST-MODIFIED:20260319T211350Z
UID:4638-1775865600-1775951999@www.fischerstecher.de
SUMMARY:Der AWV räumt auf - und wir sind dabei!
DESCRIPTION:Flursäuberung des Wörnitzufer \n  \nTreffpunkt bei uns im Vereinsheim um 8.30 Uhr
URL:https://www.fischerstecher.de/event/der-awv-raeumt-auf-und-wir-sind-dabei/
END:VEVENT
BEGIN:VEVENT
DTSTART;TZID=Europe/Berlin:20260207T190000
DTEND;TZID=Europe/Berlin:20260207T233000
DTSTAMP:20260421T131758
CREATED:20260302T203203Z
LAST-MODIFIED:20260302T203203Z
UID:4624-1770490800-1770507000@www.fischerstecher.de
SUMMARY:Generalversammlung 2026
DESCRIPTION:Beginn um 19 Uhr im Vereinsheim
URL:https://www.fischerstecher.de/event/generalversammlung-2026/
END:VEVENT
BEGIN:VEVENT
DTSTART;VALUE=DATE:20250727
DTEND;VALUE=DATE:20250728
DTSTAMP:20260421T131758
CREATED:20250227T210508Z
LAST-MODIFIED:20250227T210508Z
UID:4586-1753574400-1753660799@www.fischerstecher.de
SUMMARY:Hobbystechen Oettingen 2025
DESCRIPTION:Oettinger Fischerstechen mit Dirndlspringen\n  \nBeginn des Stechens und alle Details folgen in Kürze
URL:https://www.fischerstecher.de/event/hobbystechen-oettingen-2025/
LOCATION:avia_transparency_logo
END:VEVENT
BEGIN:VEVENT
DTSTART;VALUE=DATE:20250531
DTEND;VALUE=DATE:20250601
DTSTAMP:20260421T131758
CREATED:20250227T204303Z
LAST-MODIFIED:20250227T204303Z
UID:4584-1748649600-1748735999@www.fischerstecher.de
SUMMARY:Fischerstechen Neuburg 2025
DESCRIPTION:
URL:https://www.fischerstecher.de/event/fischerstechen-neuburg-2025/
LOCATION:avia_transparency_logo
END:VEVENT
BEGIN:VEVENT
DTSTART;VALUE=DATE:20250510
DTEND;VALUE=DATE:20250512
DTSTAMP:20260421T131758
CREATED:20250227T203954Z
LAST-MODIFIED:20250227T203954Z
UID:4582-1746835200-1747007999@www.fischerstecher.de
SUMMARY:Muttertagsfahrten & Tourismuseröffnung 2025
DESCRIPTION:Inselrundfahrten im Ried\n 
URL:https://www.fischerstecher.de/event/muttertagsfahrten-tourismuseroeffnung-2025/
LOCATION:avia_transparency_logo
END:VEVENT
BEGIN:VEVENT
DTSTART;VALUE=DATE:20241214
DTEND;VALUE=DATE:20241215
DTSTAMP:20260421T131758
CREATED:20240130T201025Z
LAST-MODIFIED:20240130T201025Z
UID:4264-1734134400-1734220799@www.fischerstecher.de
SUMMARY:Weihnachtsfeier 2024
DESCRIPTION:Beginn 18 Uhr
URL:https://www.fischerstecher.de/event/weihnachtsfeier-2024/
LOCATION:bei uns im Stadel
END:VEVENT
BEGIN:VEVENT
DTSTART;VALUE=DATE:20240530
DTEND;VALUE=DATE:20240603
DTSTAMP:20260421T131758
CREATED:20240130T201101Z
LAST-MODIFIED:20240130T201101Z
UID:4271-1717027200-1717372799@www.fischerstecher.de
SUMMARY:Inselfest 2024 - vom 30.05.2024 – 02.06.2024
DESCRIPTION:Die City Initiative Donauwörth organisiert gemeinsam mit den Donauwörther Fischerstechern das Inselfest. \nDas Fischerstechen auf der Wörnitz hat eine dreihundert Jahre alte Tradition in der ehemals Freien Reichsstadt. Rund um das Fischerstechen wird auf der Altstadtinsel Ried gefeiert – mit toller Livemusik! \nDas Inselfest zeichnet sich aus durch einen traditionell-festlich-historischen Brauchtum mit einem Hauch von Rittertum auf dem Wasser\, den eindrucksvollen Kämpfen und spritzigen Szenen auf der Wörnitz und die stimmungsvolle Atmosphäre im Ried. \n  \nDas Programm für das Inselfest folgt …. \n  \nhttps://www.donauwoerth.de/event/29697_2024-05-30_inselfest-am-30-mai-2-juni-2024/event.html
URL:https://www.fischerstecher.de/event/inselfest-2024-vom-30-05-2024-02-06-2024/
CATEGORIES:Inselfest
END:VEVENT
BEGIN:VEVENT
DTSTART;VALUE=DATE:20240518
DTEND;VALUE=DATE:20240519
DTSTAMP:20260421T131758
CREATED:20240130T201701Z
LAST-MODIFIED:20240130T201701Z
UID:4266-1715990400-1716076799@www.fischerstecher.de
SUMMARY:Fischerstechen Neuburg 2024
DESCRIPTION:
URL:https://www.fischerstecher.de/event/fischerstechen-neuburg-2024/
LOCATION:avia_transparency_logo
END:VEVENT
BEGIN:VEVENT
DTSTART;VALUE=DATE:20240509
DTEND;VALUE=DATE:20240510
DTSTAMP:20260421T131758
CREATED:20240130T201244Z
LAST-MODIFIED:20240130T201244Z
UID:4267-1715212800-1715299199@www.fischerstecher.de
SUMMARY:Vatertagsfahrt 2024
DESCRIPTION:genaue Details werden im Vereinsheim ausgehängt\n 
URL:https://www.fischerstecher.de/event/vatertagsfahrt-2024/
LOCATION:bei uns im Stadel
END:VEVENT
BEGIN:VEVENT
DTSTART;VALUE=DATE:20240420
DTEND;VALUE=DATE:20240421
DTSTAMP:20260421T131758
CREATED:20240130T201343Z
LAST-MODIFIED:20240130T201343Z
UID:4265-1713571200-1713657599@www.fischerstecher.de
SUMMARY:Stadelputz 2024
DESCRIPTION:Beginn 9 Uhr im Vereinsheim
URL:https://www.fischerstecher.de/event/stadelputz-2024/
LOCATION:bei uns im Stadel
END:VEVENT
BEGIN:VEVENT
DTSTART;VALUE=DATE:20240315
DTEND;VALUE=DATE:20240316
DTSTAMP:20260421T131758
CREATED:20240130T200637Z
LAST-MODIFIED:20240130T200637Z
UID:4270-1710460800-1710547199@www.fischerstecher.de
SUMMARY:Sportlergala 2024
DESCRIPTION:Ehrung verdienter Donauwörther Sportlerinnen und Sportler\, Sportler/in des Jahres 2023\n  \nBeginn 19:00 Uhr in der Stauferhalle \n 
URL:https://www.fischerstecher.de/event/sportlergala-2024/
LOCATION:Neudegger Sporthalle
END:VEVENT
BEGIN:VEVENT
DTSTART;VALUE=DATE:20231209
DTEND;VALUE=DATE:20231210
DTSTAMP:20260421T131758
CREATED:20230206T211149Z
LAST-MODIFIED:20230206T211149Z
UID:4240-1702080000-1702166399@www.fischerstecher.de
SUMMARY:Weihnachtsfeier 2023
DESCRIPTION:Beginn 18 Uhr
URL:https://www.fischerstecher.de/event/weihnachtsfeier-2023/
LOCATION:bei uns im Stadel
END:VEVENT
BEGIN:VEVENT
DTSTART;VALUE=DATE:20231014
DTEND;VALUE=DATE:20231015
DTSTAMP:20260421T131758
CREATED:20230206T210941Z
LAST-MODIFIED:20230206T210941Z
UID:4238-1697241600-1697327999@www.fischerstecher.de
SUMMARY:Jahreshauptversammlung 2023
DESCRIPTION:Beginn 19 Uhr\n 
URL:https://www.fischerstecher.de/event/jahreshauptversammlung-2023/
LOCATION:bei uns im Stadel
END:VEVENT
BEGIN:VEVENT
DTSTART;VALUE=DATE:20230930
DTEND;VALUE=DATE:20231001
DTSTAMP:20260421T131758
CREATED:20230206T210602Z
LAST-MODIFIED:20230206T210602Z
UID:4236-1696032000-1696118399@www.fischerstecher.de
SUMMARY:Stadelputz 2023
DESCRIPTION:Beginn 9 Uhr im Vereinsheim
URL:https://www.fischerstecher.de/event/stadelputz-2023/
LOCATION:bei uns im Stadel
END:VEVENT
BEGIN:VEVENT
DTSTART;VALUE=DATE:20230916
DTEND;VALUE=DATE:20230917
DTSTAMP:20260421T131758
CREATED:20200210T200909Z
LAST-MODIFIED:20230206T210304Z
UID:3010-1694822400-1694908799@www.fischerstecher.de
SUMMARY:Abschlussfest mit Vereinsmeisterschaft 2023
DESCRIPTION:weitere Informationen folgen\, bzw. werden im Vereinsheim ausgehängt
URL:https://www.fischerstecher.de/event/abschlussfest-mit-vereinsmeisterschaft-2023/
LOCATION:avia_transparency_logo
END:VEVENT
BEGIN:VEVENT
DTSTART;VALUE=DATE:20230813
DTEND;VALUE=DATE:20230814
DTSTAMP:20260421T131758
CREATED:20230206T205053Z
LAST-MODIFIED:20230206T205053Z
UID:4232-1691884800-1691971199@www.fischerstecher.de
SUMMARY:Piratenschlacht Oberndorf an der Salzach 2023
DESCRIPTION:
URL:https://www.fischerstecher.de/event/piratenschlacht-oberndorf-an-der-salzach-2023/
LOCATION:avia_transparency_logo
END:VEVENT
BEGIN:VEVENT
DTSTART;VALUE=DATE:20230730
DTEND;VALUE=DATE:20230731
DTSTAMP:20260421T131758
CREATED:20230515T200635Z
LAST-MODIFIED:20230515T200635Z
UID:4258-1690675200-1690761599@www.fischerstecher.de
SUMMARY:Hobbystechen Oettingen 2023
DESCRIPTION:Oettinger Fischerstechen mit Dirndlspringen\n  \nBeginn des Stechens und alle Details folgen in Kürze
URL:https://www.fischerstecher.de/event/hobbystechen-oettingen-2023/
LOCATION:avia_transparency_logo
END:VEVENT
BEGIN:VEVENT
DTSTART;VALUE=DATE:20230715
DTEND;VALUE=DATE:20230716
DTSTAMP:20260421T131758
CREATED:20230510T195241Z
LAST-MODIFIED:20230510T195241Z
UID:4254-1689379200-1689465599@www.fischerstecher.de
SUMMARY:Fischerstechen Stepperg 2023
DESCRIPTION:Am 15.07.2023 findet das jährliche Fischerstechen am Antonibergsee mit anschließendem Antonibergfest statt.
URL:https://www.fischerstecher.de/event/fischerstechen-stepperg-2023/
LOCATION:avia_transparency_logo
END:VEVENT
BEGIN:VEVENT
DTSTART;VALUE=DATE:20230709
DTEND;VALUE=DATE:20230710
DTSTAMP:20260421T131758
CREATED:20230510T195204Z
LAST-MODIFIED:20230510T195204Z
UID:4256-1688860800-1688947199@www.fischerstecher.de
SUMMARY:Fischerstechen Ingolstadt 2023
DESCRIPTION:Wir freuen uns\, das in diesem Jahr wieder ein Fischerstechen in Ingolstadt stattfindet! \n  \nAm Sonntag den 09. Juli 2023 \nBeginn: 13 Uhr an der Donaubühne Ingolstadt \nStepperg
URL:https://www.fischerstecher.de/event/fischerstechen-ingolstadt-2023/
LOCATION:avia_transparency_logo
END:VEVENT
BEGIN:VEVENT
DTSTART;VALUE=DATE:20230701
DTEND;VALUE=DATE:20230702
DTSTAMP:20260421T131758
CREATED:20230515T200606Z
LAST-MODIFIED:20230515T200606Z
UID:4260-1688169600-1688255999@www.fischerstecher.de
SUMMARY:Hobbystechen Rain am Lech 2023
DESCRIPTION:Fischerfest mit Fischerstechen\n  \nBeginn des Stechens: 11.30 Uhr
URL:https://www.fischerstecher.de/event/hobbystechen-rain-am-lech-2023/
LOCATION:avia_transparency_logo
END:VEVENT
BEGIN:VEVENT
DTSTART;VALUE=DATE:20230520
DTEND;VALUE=DATE:20230521
DTSTAMP:20260421T131758
CREATED:20230206T204705Z
LAST-MODIFIED:20230206T204715Z
UID:3593-1684540800-1684627199@www.fischerstecher.de
SUMMARY:Fischerstechen Neuburg 2023
DESCRIPTION:
URL:https://www.fischerstecher.de/event/fischerstechen-neuburg-2023/
LOCATION:avia_transparency_logo
END:VEVENT
BEGIN:VEVENT
DTSTART;VALUE=DATE:20230518
DTEND;VALUE=DATE:20230519
DTSTAMP:20260421T131758
CREATED:20230206T204321Z
LAST-MODIFIED:20230206T204321Z
UID:4229-1684368000-1684454399@www.fischerstecher.de
SUMMARY:Vatertagsfahrt 2023
DESCRIPTION:genaue Details werden im Vereinsheim ausgehängt\n 
URL:https://www.fischerstecher.de/event/vatertagsfahrt-2023/
LOCATION:avia_transparency_logo
END:VEVENT
BEGIN:VEVENT
DTSTART;VALUE=DATE:20230513
DTEND;VALUE=DATE:20230515
DTSTAMP:20260421T131758
CREATED:20191209T212652Z
LAST-MODIFIED:20230206T204001Z
UID:951-1683936000-1684108799@www.fischerstecher.de
SUMMARY:Muttertagsfahrten & Tourismuseröffnung 2023
DESCRIPTION:Inselrundfahrten im Ried\n 
URL:https://www.fischerstecher.de/event/muttertagsfahrten-tourismuseroeffnung-2023/
LOCATION:avia_transparency_logo
END:VEVENT
BEGIN:VEVENT
DTSTART;VALUE=DATE:20230430
DTEND;VALUE=DATE:20230501
DTSTAMP:20260421T131758
CREATED:20230206T202022Z
LAST-MODIFIED:20230206T202039Z
UID:4224-1682812800-1682899199@www.fischerstecher.de
SUMMARY:Maibaumfeier 2023
DESCRIPTION:Maibaum aufstellen mit anschließender Maibaumfeier\n  \nBeginn: 18 Uhr \n 
URL:https://www.fischerstecher.de/event/maibaumfeier-2023/
LOCATION:bei uns im Stadel
END:VEVENT
BEGIN:VEVENT
DTSTART;VALUE=DATE:20230422
DTEND;VALUE=DATE:20230423
DTSTAMP:20260421T131758
CREATED:20230206T203459Z
LAST-MODIFIED:20230206T203554Z
UID:4226-1682121600-1682207999@www.fischerstecher.de
SUMMARY:Uferreinigung & Stadelputz 2023 - Rama dama
DESCRIPTION:am 22. April 2023\n  \nTreffpunkt um 9.00 Uhr im Vereinsheim \n  \nIn diesem Jahr werden wir die Uferreinigung und den Stadelputz an einem Tag durchführen. \nWir freuen uns über zahlreiche Teilnahme! \n  \n 
URL:https://www.fischerstecher.de/event/uferreinigung-stadelputz-2023-rama-dama/
LOCATION:bei uns im Stadel
END:VEVENT
BEGIN:VEVENT
DTSTART;VALUE=DATE:20230324
DTEND;VALUE=DATE:20230325
DTSTAMP:20260421T131758
CREATED:20230206T201552Z
LAST-MODIFIED:20230206T201552Z
UID:4221-1679616000-1679702399@www.fischerstecher.de
SUMMARY:Sportlergala 2023
DESCRIPTION:Ehrung verdienter Donauwörther Sportlerinnen und Sportler\, Sportler/in des Jahres 2022\n  \nBeginn 19:00 Uhr \n 
URL:https://www.fischerstecher.de/event/sportlergala-2023/
LOCATION:Neudegger Sporthalle
END:VEVENT
BEGIN:VEVENT
DTSTART;VALUE=DATE:20221210
DTEND;VALUE=DATE:20221211
DTSTAMP:20260421T131758
CREATED:20220508T120014Z
LAST-MODIFIED:20220508T120014Z
UID:3592-1670630400-1670716799@www.fischerstecher.de
SUMMARY:Weihnachtsfeier 2022
DESCRIPTION:Beginn 18 Uhr
URL:https://www.fischerstecher.de/event/weihnachtsfeier-2022/
LOCATION:avia_transparency_logo
END:VEVENT
BEGIN:VEVENT
DTSTART;VALUE=DATE:20221008
DTEND;VALUE=DATE:20221009
DTSTAMP:20260421T131758
CREATED:20220508T120117Z
LAST-MODIFIED:20220508T120139Z
UID:3589-1665187200-1665273599@www.fischerstecher.de
SUMMARY:Generalversammlung 2022
DESCRIPTION:Beginn 19 Uhr\n 
URL:https://www.fischerstecher.de/event/generalversammlung-2022/
LOCATION:avia_transparency_logo
END:VEVENT
BEGIN:VEVENT
DTSTART;VALUE=DATE:20220910
DTEND;VALUE=DATE:20220911
DTSTAMP:20260421T131758
CREATED:20220508T120153Z
LAST-MODIFIED:20220508T120158Z
UID:3595-1662768000-1662854399@www.fischerstecher.de
SUMMARY:Abschlussfest 2022
DESCRIPTION:Beginn um 18 Uhr
URL:https://www.fischerstecher.de/event/abschlussfest-2022/
LOCATION:avia_transparency_logo
END:VEVENT
BEGIN:VEVENT
DTSTART;VALUE=DATE:20220814
DTEND;VALUE=DATE:20220815
DTSTAMP:20260421T131758
CREATED:20220508T120236Z
LAST-MODIFIED:20220508T120244Z
UID:3601-1660435200-1660521599@www.fischerstecher.de
SUMMARY:Fischerstechen Oberndorf an der Salzach 2022
DESCRIPTION:
URL:https://www.fischerstecher.de/event/fischerstechen-oberndorf-an-der-salzach-2022/
LOCATION:avia_transparency_logo
END:VEVENT
END:VCALENDAR