BEGIN:VCALENDAR
VERSION:2.0
PRODID:-//Donauwörther Fischerstecher e.V. - ECPv6.0.3.1//NONSGML v1.0//EN
CALSCALE:GREGORIAN
METHOD:PUBLISH
X-ORIGINAL-URL:https://www.fischerstecher.de
X-WR-CALDESC:Veranstaltungen für Donauwörther Fischerstecher e.V.
REFRESH-INTERVAL;VALUE=DURATION:PT1H
X-Robots-Tag:noindex
X-PUBLISHED-TTL:PT1H
BEGIN:VTIMEZONE
TZID:Europe/Berlin
BEGIN:DAYLIGHT
TZOFFSETFROM:+0100
TZOFFSETTO:+0200
TZNAME:CEST
DTSTART:20240331T010000
END:DAYLIGHT
BEGIN:STANDARD
TZOFFSETFROM:+0200
TZOFFSETTO:+0100
TZNAME:CET
DTSTART:20241027T010000
END:STANDARD
END:VTIMEZONE
BEGIN:VEVENT
DTSTART;VALUE=DATE:20240530
DTEND;VALUE=DATE:20240603
DTSTAMP:20260425T211621
CREATED:20240130T201101Z
LAST-MODIFIED:20240130T201101Z
UID:4271-1717027200-1717372799@www.fischerstecher.de
SUMMARY:Inselfest 2024 - vom 30.05.2024 – 02.06.2024
DESCRIPTION:Die City Initiative Donauwörth organisiert gemeinsam mit den Donauwörther Fischerstechern das Inselfest. \nDas Fischerstechen auf der Wörnitz hat eine dreihundert Jahre alte Tradition in der ehemals Freien Reichsstadt. Rund um das Fischerstechen wird auf der Altstadtinsel Ried gefeiert – mit toller Livemusik! \nDas Inselfest zeichnet sich aus durch einen traditionell-festlich-historischen Brauchtum mit einem Hauch von Rittertum auf dem Wasser\, den eindrucksvollen Kämpfen und spritzigen Szenen auf der Wörnitz und die stimmungsvolle Atmosphäre im Ried. \n  \nDas Programm für das Inselfest folgt …. \n  \nhttps://www.donauwoerth.de/event/29697_2024-05-30_inselfest-am-30-mai-2-juni-2024/event.html
URL:https://www.fischerstecher.de/event/inselfest-2024-vom-30-05-2024-02-06-2024/
CATEGORIES:Inselfest
END:VEVENT
END:VCALENDAR