BEGIN:VCALENDAR
VERSION:2.0
PRODID:-//Donauwörther Fischerstecher e.V. - ECPv6.0.3.1//NONSGML v1.0//EN
CALSCALE:GREGORIAN
METHOD:PUBLISH
X-ORIGINAL-URL:https://www.fischerstecher.de
X-WR-CALDESC:Veranstaltungen für Donauwörther Fischerstecher e.V.
REFRESH-INTERVAL;VALUE=DURATION:PT1H
X-Robots-Tag:noindex
X-PUBLISHED-TTL:PT1H
BEGIN:VTIMEZONE
TZID:Europe/Berlin
BEGIN:DAYLIGHT
TZOFFSETFROM:+0100
TZOFFSETTO:+0200
TZNAME:CEST
DTSTART:20230326T010000
END:DAYLIGHT
BEGIN:STANDARD
TZOFFSETFROM:+0200
TZOFFSETTO:+0100
TZNAME:CET
DTSTART:20231029T010000
END:STANDARD
END:VTIMEZONE
BEGIN:VEVENT
DTSTART;VALUE=DATE:20230701
DTEND;VALUE=DATE:20230702
DTSTAMP:20260425T021805
CREATED:20230515T200606Z
LAST-MODIFIED:20230515T200606Z
UID:4260-1688169600-1688255999@www.fischerstecher.de
SUMMARY:Hobbystechen Rain am Lech 2023
DESCRIPTION:Fischerfest mit Fischerstechen\n  \nBeginn des Stechens: 11.30 Uhr
URL:https://www.fischerstecher.de/event/hobbystechen-rain-am-lech-2023/
LOCATION:avia_transparency_logo
END:VEVENT
END:VCALENDAR