BEGIN:VCALENDAR
VERSION:2.0
PRODID:-//Donauwörther Fischerstecher e.V. - ECPv6.0.3.1//NONSGML v1.0//EN
CALSCALE:GREGORIAN
METHOD:PUBLISH
X-ORIGINAL-URL:https://www.fischerstecher.de
X-WR-CALDESC:Veranstaltungen für Donauwörther Fischerstecher e.V.
REFRESH-INTERVAL;VALUE=DURATION:PT1H
X-Robots-Tag:noindex
X-PUBLISHED-TTL:PT1H
BEGIN:VTIMEZONE
TZID:Europe/Berlin
BEGIN:DAYLIGHT
TZOFFSETFROM:+0100
TZOFFSETTO:+0200
TZNAME:CEST
DTSTART:20230326T010000
END:DAYLIGHT
BEGIN:STANDARD
TZOFFSETFROM:+0200
TZOFFSETTO:+0100
TZNAME:CET
DTSTART:20231029T010000
END:STANDARD
END:VTIMEZONE
BEGIN:VEVENT
DTSTART;VALUE=DATE:20230422
DTEND;VALUE=DATE:20230423
DTSTAMP:20260424T234517
CREATED:20230206T203459Z
LAST-MODIFIED:20230206T203554Z
UID:4226-1682121600-1682207999@www.fischerstecher.de
SUMMARY:Uferreinigung & Stadelputz 2023 - Rama dama
DESCRIPTION:am 22. April 2023\n  \nTreffpunkt um 9.00 Uhr im Vereinsheim \n  \nIn diesem Jahr werden wir die Uferreinigung und den Stadelputz an einem Tag durchführen. \nWir freuen uns über zahlreiche Teilnahme! \n  \n 
URL:https://www.fischerstecher.de/event/uferreinigung-stadelputz-2023-rama-dama/
LOCATION:bei uns im Stadel
END:VEVENT
END:VCALENDAR