BEGIN:VCALENDAR
VERSION:2.0
PRODID:-//Donauwörther Fischerstecher e.V. - ECPv6.0.3.1//NONSGML v1.0//EN
CALSCALE:GREGORIAN
METHOD:PUBLISH
X-WR-CALNAME:Donauwörther Fischerstecher e.V.
X-ORIGINAL-URL:https://www.fischerstecher.de
X-WR-CALDESC:Veranstaltungen für Donauwörther Fischerstecher e.V.
REFRESH-INTERVAL;VALUE=DURATION:PT1H
X-Robots-Tag:noindex
X-PUBLISHED-TTL:PT1H
BEGIN:VTIMEZONE
TZID:Europe/Berlin
BEGIN:DAYLIGHT
TZOFFSETFROM:+0100
TZOFFSETTO:+0200
TZNAME:CEST
DTSTART:20220327T010000
END:DAYLIGHT
BEGIN:STANDARD
TZOFFSETFROM:+0200
TZOFFSETTO:+0100
TZNAME:CET
DTSTART:20221030T010000
END:STANDARD
END:VTIMEZONE
BEGIN:VEVENT
DTSTART;VALUE=DATE:20220616
DTEND;VALUE=DATE:20220620
DTSTAMP:20260424T113328
CREATED:20200420T195124Z
LAST-MODIFIED:20220508T182608Z
UID:3251-1655337600-1655683199@www.fischerstecher.de
SUMMARY:Inselfest 2022 - vom 16. - 19. Juni 2022
DESCRIPTION:Programm Inselfest \n  \nDo. 16.06.2022\n16:00 Uhr Eröffnung mit Bieranstich \nLivemusik auf beiden Bühnen u.a. mit Funk´n´Roll \n\nFr. 17.06.2022\n16:00 Uhr Entenrennen Wörnitz\, Sebastian-Franck-Brücke \nab 16:30 Uhr Stechen der Hobbymannschaften\, Wörnitz \n18:00 Uhr Siegerehrungen\, Bühne Fischerplatz \nAb 19:00 Uhr Livemusik auf beiden Bühnen u.a. mit Boppin´B \n\nSa. 18.06.2022\n15:00 Uhr Festzug der Fischerstecher Reichsstraße\, Hindenburgstraße bis Sebastian-Franck-Brücke \nab 15:30 Uhr Stechen der Profimannschaften\, Wörnitz \n18:00 Uhr Siegerehrung der Profimannschaften\, Bühne Fischerplatz \nab 19:00 Uhr Livemusik auf beiden Bühnen u.a. mit Daisy Ultra\, Münchner Zwietrach und Da Rocka & Da Waitler \n\nSo. 19.06.2022\n10:00 Uhr bis 14:00 Uhr Frühschoppen mit Weißwurst und Livemusik auf der Bühne Kolping
URL:https://www.fischerstecher.de/event/inselfest-2022-neuer-termin-steht-fest/
CATEGORIES:Inselfest
END:VEVENT
END:VCALENDAR