BEGIN:VCALENDAR
VERSION:2.0
PRODID:-//Donauwörther Fischerstecher e.V. - ECPv6.0.3.1//NONSGML v1.0//EN
CALSCALE:GREGORIAN
METHOD:PUBLISH
X-WR-CALNAME:Donauwörther Fischerstecher e.V.
X-ORIGINAL-URL:https://www.fischerstecher.de
X-WR-CALDESC:Veranstaltungen für Donauwörther Fischerstecher e.V.
REFRESH-INTERVAL;VALUE=DURATION:PT1H
X-Robots-Tag:noindex
X-PUBLISHED-TTL:PT1H
BEGIN:VTIMEZONE
TZID:Europe/Berlin
BEGIN:DAYLIGHT
TZOFFSETFROM:+0100
TZOFFSETTO:+0200
TZNAME:CEST
DTSTART:20210328T010000
END:DAYLIGHT
BEGIN:STANDARD
TZOFFSETFROM:+0200
TZOFFSETTO:+0100
TZNAME:CET
DTSTART:20211031T010000
END:STANDARD
END:VTIMEZONE
BEGIN:VEVENT
DTSTART;VALUE=DATE:20210206
DTEND;VALUE=DATE:20210207
DTSTAMP:20260424T010052
CREATED:20200210T201651Z
LAST-MODIFIED:20200211T203831Z
UID:3019-1612569600-1612655999@www.fischerstecher.de
SUMMARY:Jahreshauptversammlung 2021
DESCRIPTION:Beginn 19 Uhr\n 
URL:https://www.fischerstecher.de/event/jahreshauptversammlung-2021/
LOCATION:avia_transparency_logo
END:VEVENT
END:VCALENDAR